BEGIN:VCALENDAR
VERSION:2.0
PRODID:icalendar-ruby
CALSCALE:GREGORIAN
METHOD:PUBLISH
BEGIN:VTIMEZONE
TZID:Australia/Brisbane
BEGIN:STANDARD
DTSTART:19920301T020000
TZOFFSETFROM:+1100
TZOFFSETTO:+1000
TZNAME:AEST
END:STANDARD
END:VTIMEZONE
BEGIN:VEVENT
DTSTAMP:20260421T122302Z
UID:inspection_3005887
DTSTART;TZID=Australia/Brisbane:20260426T140038
DTEND;TZID=Australia/Brisbane:20260426T143038
CLASS:PUBLIC
CREATED:20260420T170812
DESCRIPTION: 
LAST-MODIFIED:20260420T170812
LOCATION:10 Spinnaker Court\, CURRUMBIN WATERS QLD 4223\, Australia
SUMMARY:10 Spinnaker Court\,  Inspection
URL;VALUE=URI:http://platinumrealty.au
END:VEVENT
END:VCALENDAR
