BEGIN:VCALENDAR
VERSION:2.0
PRODID:icalendar-ruby
CALSCALE:GREGORIAN
METHOD:PUBLISH
BEGIN:VTIMEZONE
TZID:Australia/Brisbane
BEGIN:STANDARD
DTSTART:19920301T020000
TZOFFSETFROM:+1100
TZOFFSETTO:+1000
TZNAME:AEST
END:STANDARD
END:VTIMEZONE
BEGIN:VEVENT
DTSTAMP:20260423T145113Z
UID:inspection_3009466
DTSTART;TZID=Australia/Brisbane:20260426T130000
DTEND;TZID=Australia/Brisbane:20260426T133000
CLASS:PUBLIC
CREATED:20260422T141059
DESCRIPTION: 
LAST-MODIFIED:20260422T141059
LOCATION:7 / 241 Golden Four Drive\, BILINGA QLD 4225\, Australia
SUMMARY:7 / 241 Golden Four Drive\,  Inspection
URL;VALUE=URI:http://platinumrealty.au
END:VEVENT
END:VCALENDAR
